BEGIN:VCALENDAR
VERSION:2.0
PRODID:-//Dörflileist Wiler - ECPv6.15.20//NONSGML v1.0//EN
CALSCALE:GREGORIAN
METHOD:PUBLISH
X-WR-CALNAME:Dörflileist Wiler
X-ORIGINAL-URL:https://doerflileist-wiler.ch
X-WR-CALDESC:Veranstaltungen für Dörflileist Wiler
REFRESH-INTERVAL;VALUE=DURATION:PT1H
X-Robots-Tag:noindex
X-PUBLISHED-TTL:PT1H
BEGIN:VTIMEZONE
TZID:Europe/Berlin
BEGIN:DAYLIGHT
TZOFFSETFROM:+0100
TZOFFSETTO:+0200
TZNAME:CEST
DTSTART:20240331T010000
END:DAYLIGHT
BEGIN:STANDARD
TZOFFSETFROM:+0200
TZOFFSETTO:+0100
TZNAME:CET
DTSTART:20241027T010000
END:STANDARD
BEGIN:DAYLIGHT
TZOFFSETFROM:+0100
TZOFFSETTO:+0200
TZNAME:CEST
DTSTART:20250330T010000
END:DAYLIGHT
BEGIN:STANDARD
TZOFFSETFROM:+0200
TZOFFSETTO:+0100
TZNAME:CET
DTSTART:20251026T010000
END:STANDARD
BEGIN:DAYLIGHT
TZOFFSETFROM:+0100
TZOFFSETTO:+0200
TZNAME:CEST
DTSTART:20260329T010000
END:DAYLIGHT
BEGIN:STANDARD
TZOFFSETFROM:+0200
TZOFFSETTO:+0100
TZNAME:CET
DTSTART:20261025T010000
END:STANDARD
BEGIN:DAYLIGHT
TZOFFSETFROM:+0100
TZOFFSETTO:+0200
TZNAME:CEST
DTSTART:20270328T010000
END:DAYLIGHT
BEGIN:STANDARD
TZOFFSETFROM:+0200
TZOFFSETTO:+0100
TZNAME:CET
DTSTART:20271031T010000
END:STANDARD
END:VTIMEZONE
BEGIN:VEVENT
DTSTART;TZID=Europe/Berlin:20251201T080000
DTEND;TZID=Europe/Berlin:20261224T170000
DTSTAMP:20260421T173432
CREATED:20250203T065141Z
LAST-MODIFIED:20250203T065141Z
UID:3728-1764576000-1798131600@doerflileist-wiler.ch
SUMMARY:Adventsfenster
DESCRIPTION:
URL:https://doerflileist-wiler.ch/event/adventsfenster-2/
LOCATION:Bern
CATEGORIES:Veranstaltungen
END:VEVENT
BEGIN:VEVENT
DTSTART;TZID=Europe/Berlin:20260601T183000
DTEND;TZID=Europe/Berlin:20260601T220000
DTSTAMP:20260421T173432
CREATED:20260101T135840Z
LAST-MODIFIED:20260101T135840Z
UID:3822-1780338600-1780351200@doerflileist-wiler.ch
SUMMARY:2026 Jass-Abend (ganze Gemeinde)
DESCRIPTION:
URL:https://doerflileist-wiler.ch/event/jass-abend-ganze-gemeinde-2/
LOCATION:Frienisberg\, Bernstrasse 137\, Seedorf\, 3267
CATEGORIES:Veranstaltungen
END:VEVENT
BEGIN:VEVENT
DTSTART;TZID=Europe/Berlin:20260617T140000
DTEND;TZID=Europe/Berlin:20260617T170000
DTSTAMP:20260421T173432
CREATED:20260101T141051Z
LAST-MODIFIED:20260101T141051Z
UID:3859-1781704800-1781715600@doerflileist-wiler.ch
SUMMARY:Wiler-Träff 2026
DESCRIPTION:
URL:https://doerflileist-wiler.ch/event/wiler-traeff-2025-2-2-2-2-2-2-2-2-2-2-2-2-2-2/
LOCATION:Bluemeschüürli\, Hinteren Grissenberg 1\, Wiler bei Seedorf\, Bern\, 3266\, Schweiz
CATEGORIES:WilerTräff
END:VEVENT
BEGIN:VEVENT
DTSTART;TZID=Europe/Berlin:20260626T160000
DTEND;TZID=Europe/Berlin:20260626T220000
DTSTAMP:20260421T173432
CREATED:20260101T140152Z
LAST-MODIFIED:20260101T140152Z
UID:3831-1782489600-1782511200@doerflileist-wiler.ch
SUMMARY:2026 Schulabschlussfest
DESCRIPTION:
URL:https://doerflileist-wiler.ch/event/2023-schulfest-2/
LOCATION:Schulhaus\, Schulhausstrasse 1\, Wiler bei Seedorf\, 3266\, Schweiz
CATEGORIES:Veranstaltungen
END:VEVENT
END:VCALENDAR