BEGIN:VCALENDAR
VERSION:2.0
PRODID:-//Dörflileist Wiler - ECPv6.15.20//NONSGML v1.0//EN
CALSCALE:GREGORIAN
METHOD:PUBLISH
X-ORIGINAL-URL:https://doerflileist-wiler.ch
X-WR-CALDESC:Veranstaltungen für Dörflileist Wiler
REFRESH-INTERVAL;VALUE=DURATION:PT1H
X-Robots-Tag:noindex
X-PUBLISHED-TTL:PT1H
BEGIN:VTIMEZONE
TZID:Europe/Berlin
BEGIN:DAYLIGHT
TZOFFSETFROM:+0100
TZOFFSETTO:+0200
TZNAME:CEST
DTSTART:20220327T010000
END:DAYLIGHT
BEGIN:STANDARD
TZOFFSETFROM:+0200
TZOFFSETTO:+0100
TZNAME:CET
DTSTART:20221030T010000
END:STANDARD
BEGIN:DAYLIGHT
TZOFFSETFROM:+0100
TZOFFSETTO:+0200
TZNAME:CEST
DTSTART:20230326T010000
END:DAYLIGHT
BEGIN:STANDARD
TZOFFSETFROM:+0200
TZOFFSETTO:+0100
TZNAME:CET
DTSTART:20231029T010000
END:STANDARD
BEGIN:DAYLIGHT
TZOFFSETFROM:+0100
TZOFFSETTO:+0200
TZNAME:CEST
DTSTART:20240331T010000
END:DAYLIGHT
BEGIN:STANDARD
TZOFFSETFROM:+0200
TZOFFSETTO:+0100
TZNAME:CET
DTSTART:20241027T010000
END:STANDARD
END:VTIMEZONE
BEGIN:VEVENT
DTSTART;TZID=Europe/Berlin:20230607T140000
DTEND;TZID=Europe/Berlin:20230607T170000
DTSTAMP:20260425T144215
CREATED:20230227T101754Z
LAST-MODIFIED:20230529T145110Z
UID:3256-1686146400-1686157200@doerflileist-wiler.ch
SUMMARY:Wiler-Träff
DESCRIPTION:
URL:https://doerflileist-wiler.ch/event/2023-wiler-traeff-4/
LOCATION:Bluemeschüürli\, Hinteren Grissenberg 1\, Wiler bei Seedorf\, Bern\, 3266\, Schweiz
CATEGORIES:WilerTräff
END:VEVENT
BEGIN:VEVENT
DTSTART;TZID=Europe/Berlin:20230630T160000
DTEND;TZID=Europe/Berlin:20230630T220000
DTSTAMP:20260425T144215
CREATED:20230227T101035Z
LAST-MODIFIED:20230227T103448Z
UID:3232-1688140800-1688162400@doerflileist-wiler.ch
SUMMARY:Schulfest
DESCRIPTION:
URL:https://doerflileist-wiler.ch/event/2023-schulfest/
LOCATION:Schulhaus\, Schulhausstrasse 1\, Wiler bei Seedorf\, 3266\, Schweiz
CATEGORIES:Veranstaltungen
END:VEVENT
END:VCALENDAR