BEGIN:VCALENDAR
VERSION:2.0
PRODID:-//Dörflileist Wiler - ECPv6.15.20//NONSGML v1.0//EN
CALSCALE:GREGORIAN
METHOD:PUBLISH
X-ORIGINAL-URL:https://doerflileist-wiler.ch
X-WR-CALDESC:Veranstaltungen für Dörflileist Wiler
REFRESH-INTERVAL;VALUE=DURATION:PT1H
X-Robots-Tag:noindex
X-PUBLISHED-TTL:PT1H
BEGIN:VTIMEZONE
TZID:Europe/Berlin
BEGIN:DAYLIGHT
TZOFFSETFROM:+0100
TZOFFSETTO:+0200
TZNAME:CEST
DTSTART:20260329T010000
END:DAYLIGHT
BEGIN:STANDARD
TZOFFSETFROM:+0200
TZOFFSETTO:+0100
TZNAME:CET
DTSTART:20261025T010000
END:STANDARD
BEGIN:DAYLIGHT
TZOFFSETFROM:+0100
TZOFFSETTO:+0200
TZNAME:CEST
DTSTART:20270328T010000
END:DAYLIGHT
BEGIN:STANDARD
TZOFFSETFROM:+0200
TZOFFSETTO:+0100
TZNAME:CET
DTSTART:20271031T010000
END:STANDARD
BEGIN:DAYLIGHT
TZOFFSETFROM:+0100
TZOFFSETTO:+0200
TZNAME:CEST
DTSTART:20280326T010000
END:DAYLIGHT
BEGIN:STANDARD
TZOFFSETFROM:+0200
TZOFFSETTO:+0100
TZNAME:CET
DTSTART:20281029T010000
END:STANDARD
END:VTIMEZONE
BEGIN:VEVENT
DTSTART;TZID=Europe/Berlin:20270102T170000
DTEND;TZID=Europe/Berlin:20270102T190000
DTSTAMP:20260421T153728
CREATED:20260101T140524Z
LAST-MODIFIED:20260101T140524Z
UID:3843-1798909200-1798916400@doerflileist-wiler.ch
SUMMARY:2027 Neujahrsapéro
DESCRIPTION:
URL:https://doerflileist-wiler.ch/event/neujahrsapero-5-2-2/
LOCATION:Schützenhaus\, Hauptstrasse 67\, Wiler bei Seedorf\, 3266
CATEGORIES:Veranstaltungen
ORGANIZER;CN="D%C3%B6rflileist-Wiler":MAILTO:info@dörflileist-wiler.ch
END:VEVENT
END:VCALENDAR