BEGIN:VCALENDAR
VERSION:2.0
PRODID:-//Dörflileist Wiler - ECPv6.15.20//NONSGML v1.0//EN
CALSCALE:GREGORIAN
METHOD:PUBLISH
X-WR-CALNAME:Dörflileist Wiler
X-ORIGINAL-URL:https://doerflileist-wiler.ch
X-WR-CALDESC:Veranstaltungen für Dörflileist Wiler
REFRESH-INTERVAL;VALUE=DURATION:PT1H
X-Robots-Tag:noindex
X-PUBLISHED-TTL:PT1H
BEGIN:VTIMEZONE
TZID:Europe/Berlin
BEGIN:DAYLIGHT
TZOFFSETFROM:+0100
TZOFFSETTO:+0200
TZNAME:CEST
DTSTART:20230326T010000
END:DAYLIGHT
BEGIN:STANDARD
TZOFFSETFROM:+0200
TZOFFSETTO:+0100
TZNAME:CET
DTSTART:20231029T010000
END:STANDARD
BEGIN:DAYLIGHT
TZOFFSETFROM:+0100
TZOFFSETTO:+0200
TZNAME:CEST
DTSTART:20240331T010000
END:DAYLIGHT
BEGIN:STANDARD
TZOFFSETFROM:+0200
TZOFFSETTO:+0100
TZNAME:CET
DTSTART:20241027T010000
END:STANDARD
BEGIN:DAYLIGHT
TZOFFSETFROM:+0100
TZOFFSETTO:+0200
TZNAME:CEST
DTSTART:20250330T010000
END:DAYLIGHT
BEGIN:STANDARD
TZOFFSETFROM:+0200
TZOFFSETTO:+0100
TZNAME:CET
DTSTART:20251026T010000
END:STANDARD
BEGIN:DAYLIGHT
TZOFFSETFROM:+0100
TZOFFSETTO:+0200
TZNAME:CEST
DTSTART:20260329T010000
END:DAYLIGHT
BEGIN:STANDARD
TZOFFSETFROM:+0200
TZOFFSETTO:+0100
TZNAME:CET
DTSTART:20261025T010000
END:STANDARD
BEGIN:DAYLIGHT
TZOFFSETFROM:+0100
TZOFFSETTO:+0200
TZNAME:CEST
DTSTART:20270328T010000
END:DAYLIGHT
BEGIN:STANDARD
TZOFFSETFROM:+0200
TZOFFSETTO:+0100
TZNAME:CET
DTSTART:20271031T010000
END:STANDARD
END:VTIMEZONE
BEGIN:VEVENT
DTSTART;TZID=Europe/Berlin:20260415T140000
DTEND;TZID=Europe/Berlin:20260415T170000
DTSTAMP:20260421T141801
CREATED:20260101T140937Z
LAST-MODIFIED:20260101T140937Z
UID:3853-1776261600-1776272400@doerflileist-wiler.ch
SUMMARY:Wiler-Träff 2026
DESCRIPTION:
URL:https://doerflileist-wiler.ch/event/wiler-traeff-2025-2-2-2-2-2-2-2-2-2-2-2-2/
LOCATION:Bluemeschüürli\, Hinteren Grissenberg 1\, Wiler bei Seedorf\, Bern\, 3266\, Schweiz
CATEGORIES:WilerTräff
END:VEVENT
BEGIN:VEVENT
DTSTART;TZID=Europe/Berlin:20260318T140000
DTEND;TZID=Europe/Berlin:20260318T170000
DTSTAMP:20260421T141801
CREATED:20260101T140850Z
LAST-MODIFIED:20260101T140850Z
UID:3849-1773842400-1773853200@doerflileist-wiler.ch
SUMMARY:Wiler-Träff 2026
DESCRIPTION:
URL:https://doerflileist-wiler.ch/event/wiler-traeff-2025-2-2-2-2-2-2-2-2-2-2-2/
LOCATION:Bluemeschüürli\, Hinteren Grissenberg 1\, Wiler bei Seedorf\, Bern\, 3266\, Schweiz
CATEGORIES:WilerTräff
END:VEVENT
BEGIN:VEVENT
DTSTART;TZID=Europe/Berlin:20260316T200000
DTEND;TZID=Europe/Berlin:20260316T220000
DTSTAMP:20260421T141801
CREATED:20260101T135735Z
LAST-MODIFIED:20260101T141209Z
UID:3819-1773691200-1773698400@doerflileist-wiler.ch
SUMMARY:Mitgliederversammlung 2026
DESCRIPTION:
URL:https://doerflileist-wiler.ch/event/mitgliederversammlung-2025-2/
LOCATION:Schützenhaus\, Hauptstrasse 67\, Wiler bei Seedorf\, 3266
CATEGORIES:Veranstaltungen
END:VEVENT
BEGIN:VEVENT
DTSTART;TZID=Europe/Berlin:20260218T140000
DTEND;TZID=Europe/Berlin:20260218T170000
DTSTAMP:20260421T141801
CREATED:20260101T140724Z
LAST-MODIFIED:20260101T140724Z
UID:3846-1771423200-1771434000@doerflileist-wiler.ch
SUMMARY:Wiler-Träff 2026
DESCRIPTION:
URL:https://doerflileist-wiler.ch/event/wiler-traeff-2025-2-2-2-2-2-2-2-2-2-2/
LOCATION:Bluemeschüürli\, Hinteren Grissenberg 1\, Wiler bei Seedorf\, Bern\, 3266\, Schweiz
CATEGORIES:WilerTräff
END:VEVENT
BEGIN:VEVENT
DTSTART;TZID=Europe/Berlin:20260103T170000
DTEND;TZID=Europe/Berlin:20260103T190000
DTSTAMP:20260421T141801
CREATED:20260101T135518Z
LAST-MODIFIED:20260101T135639Z
UID:3814-1767459600-1767466800@doerflileist-wiler.ch
SUMMARY:Neujahrsapéro 2026
DESCRIPTION:
URL:https://doerflileist-wiler.ch/event/neujahrsapero-5-2/
LOCATION:Schützenhaus\, Hauptstrasse 67\, Wiler bei Seedorf\, 3266
CATEGORIES:Veranstaltungen
ORGANIZER;CN="D%C3%B6rflileist-Wiler":MAILTO:info@dörflileist-wiler.ch
END:VEVENT
BEGIN:VEVENT
DTSTART;TZID=Europe/Berlin:20251210T140000
DTEND;TZID=Europe/Berlin:20251210T170000
DTSTAMP:20260421T141801
CREATED:20250722T110356Z
LAST-MODIFIED:20250722T110356Z
UID:3782-1765375200-1765386000@doerflileist-wiler.ch
SUMMARY:Wiler-Träff 2025
DESCRIPTION:
URL:https://doerflileist-wiler.ch/event/wiler-traeff-2025-2-2-2-2-2-2-2-2-2/
LOCATION:Bluemeschüürli\, Hinteren Grissenberg 1\, Wiler bei Seedorf\, Bern\, 3266\, Schweiz
CATEGORIES:WilerTräff
END:VEVENT
BEGIN:VEVENT
DTSTART;TZID=Europe/Berlin:20251112T140000
DTEND;TZID=Europe/Berlin:20251112T170000
DTSTAMP:20260421T141801
CREATED:20250722T110332Z
LAST-MODIFIED:20250722T110332Z
UID:3779-1762956000-1762966800@doerflileist-wiler.ch
SUMMARY:Wiler-Träff 2025
DESCRIPTION:
URL:https://doerflileist-wiler.ch/event/wiler-traeff-2025-2-2-2-2-2-2-2-2/
LOCATION:Bluemeschüürli\, Hinteren Grissenberg 1\, Wiler bei Seedorf\, Bern\, 3266\, Schweiz
CATEGORIES:WilerTräff
END:VEVENT
BEGIN:VEVENT
DTSTART;TZID=Europe/Berlin:20251107T183000
DTEND;TZID=Europe/Berlin:20251107T223000
DTSTAMP:20260421T141801
CREATED:20250203T065104Z
LAST-MODIFIED:20250203T065104Z
UID:3725-1762540200-1762554600@doerflileist-wiler.ch
SUMMARY:Raclette-Abend
DESCRIPTION:
URL:https://doerflileist-wiler.ch/event/raclette-abend-5/
LOCATION:Schützenhaus\, Hauptstrasse 67\, Wiler bei Seedorf\, 3266
CATEGORIES:Veranstaltungen
ORGANIZER;CN="D%C3%B6rflileist-Wiler":MAILTO:info@dörflileist-wiler.ch
END:VEVENT
BEGIN:VEVENT
DTSTART;TZID=Europe/Berlin:20251015T140000
DTEND;TZID=Europe/Berlin:20251015T170000
DTSTAMP:20260421T141801
CREATED:20250722T110305Z
LAST-MODIFIED:20250722T110305Z
UID:3776-1760536800-1760547600@doerflileist-wiler.ch
SUMMARY:Wiler-Träff 2025
DESCRIPTION:
URL:https://doerflileist-wiler.ch/event/wiler-traeff-2025-2-2-2-2-2-2-2/
LOCATION:Bluemeschüürli\, Hinteren Grissenberg 1\, Wiler bei Seedorf\, Bern\, 3266\, Schweiz
CATEGORIES:WilerTräff
END:VEVENT
BEGIN:VEVENT
DTSTART;TZID=Europe/Berlin:20250917T140000
DTEND;TZID=Europe/Berlin:20250917T170000
DTSTAMP:20260421T141802
CREATED:20250722T110221Z
LAST-MODIFIED:20250722T110238Z
UID:3771-1758117600-1758128400@doerflileist-wiler.ch
SUMMARY:Wiler-Träff 2025
DESCRIPTION:
URL:https://doerflileist-wiler.ch/event/wiler-traeff-2025-2-2-2-2-2-2/
LOCATION:Bluemeschüürli\, Hinteren Grissenberg 1\, Wiler bei Seedorf\, Bern\, 3266\, Schweiz
CATEGORIES:WilerTräff
END:VEVENT
BEGIN:VEVENT
DTSTART;TZID=Europe/Berlin:20250823T100000
DTEND;TZID=Europe/Berlin:20250823T170000
DTSTAMP:20260421T141802
CREATED:20250203T065013Z
LAST-MODIFIED:20250203T065013Z
UID:3722-1755943200-1755968400@doerflileist-wiler.ch
SUMMARY:Spiel und Spass für die ganze Familie
DESCRIPTION:
URL:https://doerflileist-wiler.ch/event/spiel-und-spass-fuer-die-ganze-familie/
LOCATION:Schützenhaus\, Hauptstrasse 67\, Wiler bei Seedorf\, 3266
CATEGORIES:Veranstaltungen
ORGANIZER;CN="D%C3%B6rflileist-Wiler":MAILTO:info@dörflileist-wiler.ch
END:VEVENT
BEGIN:VEVENT
DTSTART;TZID=Europe/Berlin:20250822T170000
DTEND;TZID=Europe/Berlin:20250822T233000
DTSTAMP:20260421T141802
CREATED:20250722T111613Z
LAST-MODIFIED:20250722T111613Z
UID:3787-1755882000-1755905400@doerflileist-wiler.ch
SUMMARY:Abend der offenen Tür
DESCRIPTION:
URL:https://doerflileist-wiler.ch/event/spiel-und-spass-fuer-die-ganze-familie-2/
LOCATION:Schützenhaus\, Hauptstrasse 67\, Wiler bei Seedorf\, 3266
CATEGORIES:Veranstaltungen
ORGANIZER;CN="D%C3%B6rflileist-Wiler":MAILTO:info@dörflileist-wiler.ch
END:VEVENT
BEGIN:VEVENT
DTSTART;TZID=Europe/Berlin:20250820T140000
DTEND;TZID=Europe/Berlin:20250820T170000
DTSTAMP:20260421T141802
CREATED:20250722T110159Z
LAST-MODIFIED:20250722T110159Z
UID:3768-1755698400-1755709200@doerflileist-wiler.ch
SUMMARY:Wiler-Träff 2025
DESCRIPTION:
URL:https://doerflileist-wiler.ch/event/wiler-traeff-2025-2-2-2-2-2/
LOCATION:Bluemeschüürli\, Hinteren Grissenberg 1\, Wiler bei Seedorf\, Bern\, 3266\, Schweiz
CATEGORIES:WilerTräff
END:VEVENT
BEGIN:VEVENT
DTSTART;TZID=Europe/Berlin:20250612T140000
DTEND;TZID=Europe/Berlin:20250612T170000
DTSTAMP:20260421T141802
CREATED:20250203T065647Z
LAST-MODIFIED:20250203T065647Z
UID:3745-1749736800-1749747600@doerflileist-wiler.ch
SUMMARY:Wiler-Träff 2025
DESCRIPTION:
URL:https://doerflileist-wiler.ch/event/wiler-traeff-2025-2-2-2-2/
LOCATION:Bluemeschüürli\, Hinteren Grissenberg 1\, Wiler bei Seedorf\, Bern\, 3266\, Schweiz
CATEGORIES:WilerTräff
END:VEVENT
BEGIN:VEVENT
DTSTART;TZID=Europe/Berlin:20250602T183000
DTEND;TZID=Europe/Berlin:20250602T220000
DTSTAMP:20260421T141802
CREATED:20250203T064905Z
LAST-MODIFIED:20250203T064928Z
UID:3718-1748889000-1748901600@doerflileist-wiler.ch
SUMMARY:Jass-Abend (ganze Gemeinde)
DESCRIPTION:
URL:https://doerflileist-wiler.ch/event/jass-abend-ganze-gemeinde/
LOCATION:Frienisberg\, Bernstrasse 137\, Seedorf\, 3267
CATEGORIES:Veranstaltungen
END:VEVENT
BEGIN:VEVENT
DTSTART;TZID=Europe/Berlin:20250521T140000
DTEND;TZID=Europe/Berlin:20250521T170000
DTSTAMP:20260421T141802
CREATED:20250203T065443Z
LAST-MODIFIED:20250203T065443Z
UID:3742-1747836000-1747846800@doerflileist-wiler.ch
SUMMARY:Wiler-Träff 2025
DESCRIPTION:
URL:https://doerflileist-wiler.ch/event/wiler-traeff-2025-2-2-2/
LOCATION:Bluemeschüürli\, Hinteren Grissenberg 1\, Wiler bei Seedorf\, Bern\, 3266\, Schweiz
CATEGORIES:WilerTräff
END:VEVENT
BEGIN:VEVENT
DTSTART;TZID=Europe/Berlin:20250510T083000
DTEND;TZID=Europe/Berlin:20250510T160000
DTSTAMP:20260421T141802
CREATED:20250203T064717Z
LAST-MODIFIED:20250203T071130Z
UID:3715-1746865800-1746892800@doerflileist-wiler.ch
SUMMARY:Berner Rundfahrt
DESCRIPTION:
URL:https://doerflileist-wiler.ch/event/berner-rundfahrt-2/
LOCATION:bei Familie Seiler\, Hauptstrasse 50\, Wiler bei Seedorf\, 3266
CATEGORIES:Veranstaltungen
ORGANIZER;CN="D%C3%B6rflileist-Wiler":MAILTO:info@dörflileist-wiler.ch
END:VEVENT
BEGIN:VEVENT
DTSTART;TZID=Europe/Berlin:20250423T140000
DTEND;TZID=Europe/Berlin:20250423T170000
DTSTAMP:20260421T141802
CREATED:20250203T065416Z
LAST-MODIFIED:20250203T065416Z
UID:3738-1745416800-1745427600@doerflileist-wiler.ch
SUMMARY:Wiler-Träff 2025
DESCRIPTION:
URL:https://doerflileist-wiler.ch/event/wiler-traeff-2025-2-2/
LOCATION:Bluemeschüürli\, Hinteren Grissenberg 1\, Wiler bei Seedorf\, Bern\, 3266\, Schweiz
CATEGORIES:WilerTräff
END:VEVENT
BEGIN:VEVENT
DTSTART;TZID=Europe/Berlin:20250319T140000
DTEND;TZID=Europe/Berlin:20250319T170000
DTSTAMP:20260421T141802
CREATED:20250203T065350Z
LAST-MODIFIED:20250203T065350Z
UID:3735-1742392800-1742403600@doerflileist-wiler.ch
SUMMARY:Wiler-Träff 2025
DESCRIPTION:
URL:https://doerflileist-wiler.ch/event/wiler-traeff-2025-2/
LOCATION:Bluemeschüürli\, Hinteren Grissenberg 1\, Wiler bei Seedorf\, Bern\, 3266\, Schweiz
CATEGORIES:WilerTräff
END:VEVENT
BEGIN:VEVENT
DTSTART;TZID=Europe/Berlin:20250317T200000
DTEND;TZID=Europe/Berlin:20250317T220000
DTSTAMP:20260421T141802
CREATED:20250203T064615Z
LAST-MODIFIED:20250203T064615Z
UID:3711-1742241600-1742248800@doerflileist-wiler.ch
SUMMARY:Mitgliederversammlung 2025
DESCRIPTION:
URL:https://doerflileist-wiler.ch/event/mitgliederversammlung-2025/
LOCATION:Schützenhaus\, Hauptstrasse 67\, Wiler bei Seedorf\, 3266
CATEGORIES:Veranstaltungen
END:VEVENT
BEGIN:VEVENT
DTSTART;TZID=Europe/Berlin:20250219T140000
DTEND;TZID=Europe/Berlin:20250219T170000
DTSTAMP:20260421T141802
CREATED:20250203T065243Z
LAST-MODIFIED:20250203T065243Z
UID:3731-1739973600-1739984400@doerflileist-wiler.ch
SUMMARY:Wiler-Träff 2025
DESCRIPTION:
URL:https://doerflileist-wiler.ch/event/wiler-traeff-2025/
LOCATION:Bluemeschüürli\, Hinteren Grissenberg 1\, Wiler bei Seedorf\, Bern\, 3266\, Schweiz
CATEGORIES:WilerTräff
END:VEVENT
BEGIN:VEVENT
DTSTART;TZID=Europe/Berlin:20250104T170000
DTEND;TZID=Europe/Berlin:20250104T190000
DTSTAMP:20260421T141802
CREATED:20240311T121451Z
LAST-MODIFIED:20240311T125831Z
UID:3392-1736010000-1736017200@doerflileist-wiler.ch
SUMMARY:Neujahrsapéro 2025
DESCRIPTION:
URL:https://doerflileist-wiler.ch/event/neujahrsapero-5/
LOCATION:Schulhaus\, Schulhausstrasse 1\, Wiler bei Seedorf\, 3266\, Schweiz
CATEGORIES:Veranstaltungen
ORGANIZER;CN="D%C3%B6rflileist-Wiler":MAILTO:info@dörflileist-wiler.ch
END:VEVENT
BEGIN:VEVENT
DTSTART;TZID=Europe/Berlin:20241211T080000
DTEND;TZID=Europe/Berlin:20241211T170000
DTSTAMP:20260421T141802
CREATED:20240828T112209Z
LAST-MODIFIED:20240828T112209Z
UID:3691-1733904000-1733936400@doerflileist-wiler.ch
SUMMARY:Wiler-Träff
DESCRIPTION:
URL:https://doerflileist-wiler.ch/event/wiler-traeff-34/
LOCATION:Bluemeschüürli\, Hinteren Grissenberg 1\, Wiler bei Seedorf\, Bern\, 3266\, Schweiz
CATEGORIES:WilerTräff
END:VEVENT
BEGIN:VEVENT
DTSTART;TZID=Europe/Berlin:20241113T080000
DTEND;TZID=Europe/Berlin:20241113T170000
DTSTAMP:20260421T141802
CREATED:20240828T112134Z
LAST-MODIFIED:20240828T112134Z
UID:3688-1731484800-1731517200@doerflileist-wiler.ch
SUMMARY:Wiler-Träff
DESCRIPTION:
URL:https://doerflileist-wiler.ch/event/wiler-traeff-33/
LOCATION:Bluemeschüürli\, Hinteren Grissenberg 1\, Wiler bei Seedorf\, Bern\, 3266\, Schweiz
CATEGORIES:WilerTräff
END:VEVENT
BEGIN:VEVENT
DTSTART;TZID=Europe/Berlin:20241108T183000
DTEND;TZID=Europe/Berlin:20241108T230000
DTSTAMP:20260421T141802
CREATED:20240311T121408Z
LAST-MODIFIED:20240311T121408Z
UID:3389-1731090600-1731106800@doerflileist-wiler.ch
SUMMARY:Raclette Abend
DESCRIPTION:
URL:https://doerflileist-wiler.ch/event/raclette-abend-4/
LOCATION:Bern
CATEGORIES:Veranstaltungen
ORGANIZER;CN="D%C3%B6rflileist-Wiler":MAILTO:info@dörflileist-wiler.ch
END:VEVENT
BEGIN:VEVENT
DTSTART;TZID=Europe/Berlin:20241019T080000
DTEND;TZID=Europe/Berlin:20241019T170000
DTSTAMP:20260421T141802
CREATED:20240311T121250Z
LAST-MODIFIED:20240311T121250Z
UID:3386-1729324800-1729357200@doerflileist-wiler.ch
SUMMARY:Jubiläumsjahr 1994-2024
DESCRIPTION:
URL:https://doerflileist-wiler.ch/event/jubilaeumsjahr-1994-2024/
LOCATION:Bern
CATEGORIES:Veranstaltungen
ORGANIZER;CN="D%C3%B6rflileist-Wiler":MAILTO:info@dörflileist-wiler.ch
END:VEVENT
BEGIN:VEVENT
DTSTART;TZID=Europe/Berlin:20241016T140000
DTEND;TZID=Europe/Berlin:20241016T170000
DTSTAMP:20260421T141802
CREATED:20240828T112102Z
LAST-MODIFIED:20240828T112102Z
UID:3685-1729087200-1729098000@doerflileist-wiler.ch
SUMMARY:Wiler-Träff
DESCRIPTION:
URL:https://doerflileist-wiler.ch/event/wiler-traeff-32/
LOCATION:Bluemeschüürli\, Hinteren Grissenberg 1\, Wiler bei Seedorf\, Bern\, 3266\, Schweiz
CATEGORIES:WilerTräff
END:VEVENT
BEGIN:VEVENT
DTSTART;TZID=Europe/Berlin:20240918T140000
DTEND;TZID=Europe/Berlin:20240918T170000
DTSTAMP:20260421T141802
CREATED:20240828T112014Z
LAST-MODIFIED:20240828T112014Z
UID:3682-1726668000-1726678800@doerflileist-wiler.ch
SUMMARY:Wiler-Träff
DESCRIPTION:
URL:https://doerflileist-wiler.ch/event/wiler-traeff-31/
LOCATION:Bluemeschüürli\, Hinteren Grissenberg 1\, Wiler bei Seedorf\, Bern\, 3266\, Schweiz
CATEGORIES:WilerTräff
END:VEVENT
BEGIN:VEVENT
DTSTART;TZID=Europe/Berlin:20240825T080000
DTEND;TZID=Europe/Berlin:20240825T170000
DTSTAMP:20260421T141802
CREATED:20240311T121210Z
LAST-MODIFIED:20240311T121210Z
UID:3383-1724572800-1724605200@doerflileist-wiler.ch
SUMMARY:Seifenkistenrennen 2024
DESCRIPTION:
URL:https://doerflileist-wiler.ch/event/seifenkistenrennen-2024/
LOCATION:Bern
CATEGORIES:Veranstaltungen
ORGANIZER;CN="D%C3%B6rflileist-Wiler":MAILTO:info@dörflileist-wiler.ch
END:VEVENT
BEGIN:VEVENT
DTSTART;TZID=Europe/Berlin:20240717T140000
DTEND;TZID=Europe/Berlin:20240717T170000
DTSTAMP:20260421T141802
CREATED:20231213T063846Z
LAST-MODIFIED:20231213T063904Z
UID:3357-1721224800-1721235600@doerflileist-wiler.ch
SUMMARY:Wiler-Träff
DESCRIPTION:
URL:https://doerflileist-wiler.ch/event/wiler-traeff-30/
LOCATION:Bluemeschüürli\, Hinteren Grissenberg 1\, Wiler bei Seedorf\, Bern\, 3266\, Schweiz
CATEGORIES:WilerTräff
END:VEVENT
END:VCALENDAR